BEGIN:VCALENDAR
VERSION:2.0
BEGIN:VEVENT
URL:https://artistiya.com/moia-stranitca/muzyka/muzykalnyi-klub/viewevent/і-mezhdunarodnyi-muzykalnyi-konkurs-festival-sberbank-debut 
DTSTART:20131112T000000
DTEND:20131117T000000
SUMMARY:І Международный музыкальный конкурс-фестиваль SBERBANK DEBUT
DESCRIPTION:<p class="font_9">
	<span style="color:#666666;">С 12 по 17 ноября в столице Украины пройдет І Международный музыкальный конкурс-фестиваль SBERBANK DEBUT. Организатор конкурса &ndash; АО «СБЕРБАНК РОССИИ». Художественным руководителем и почетным председателем жюри станет народный артист России Денис Мацуев. В Конкурсе примут участие юные пианисты возрастом до 13 лет. Такой масштабный конкурс проводится с целью популяризации классической музыки и культуры, для раскрытия и поддержки юных музыкальных талантов, повышения уровня игры и квалификации музыкантов.</span></p>
<p class="font_9">
	<br />
	<span style="color:#666666;">Конкурс включает в себя три этапа: отборочный тур по предоставленной участниками видеозаписи, а также два тура для 15 финалистов. На торжественном открытии конкурса состоится концерт Дениса Мацуева, а на закрытии маэстро выступит совместно с лауреатами конкурса. SBERBANK DEBUT также будет содержать фестивальную составляющую &ndash; на протяжении Конкурса ведущие педагоги, члены международного жюри проведут мастер-классы, выступят с сольными программами, обменяются методиками исполнительского искусства.</span></p>
<p class="font_9">
	<br />
	<span style="color:#666666;">Местом проведения Конкурса выбраны лучшие площадки столицы: конкурсная часть будет проходить в Национальной музыкальной академии Украины им. П.И. Чайковского, а торжественные церемонии открытия и закрытия состоятся в Национальном академическом театре оперы и балета Украины им. Т.Г. Шевченко.</span><br />
	 </p>
<p class="font_9">
	<span style="color:#666666;">Судить конкурсантов будет авторитетное международное жюри, в состав которого войдут ведущие педагоги, представители Украины, КНР, Южной Кореи, США, Европы и России.</span><br />
	 </p>
<p class="font_9">
	<span style="color:#666666;">Конкурсная и фестивальная программа будет проходить в сопровождении лучших оркестров Украины &ndash; Академического симфонического оркестра Национальной филармонии Украины под руководством народного артиста Украины  Николая Дядюры и Национального симфонического оркестра Украины под руководством народного артиста Украины Владимира Сиренко.</span><br />
	 </p>
<p>
	<span style="color:#666666;">Призовой фонд Конкурса &ndash; 40 000 долларов США.</span></p>
LOCATION:Киев, Украина
END:VEVENT
END:VCALENDAR