BEGIN:VCALENDAR
VERSION:2.0
BEGIN:VEVENT
URL:https://artistiya.com/moia-stranitca/viewevent/kongress-risovalshchikov 
DTSTART:20130518T000000
DTEND:20130608T000000
SUMMARY:Конгресс рисовальщиков
DESCRIPTION:<p style="text-align: justify;">
	По инициативе художника Павла Альтхамера здание Национального художественного музея превратится в открытую площадку для свободной и публичной коммуникации, которое будет происходить с помощью рисования.</p>
<p style="text-align: justify;">
	В течение трех недель все желающие смогут принять участие в производстве коллективного произведения искусства.</p>
<p style="text-align: justify;">
	В одном из залов Музея будет организовано специальное пространство для совместного рисования, где все участники Конгресса будут рисовать вместе с известными украинскими и зарубежными художниками.</p>
<p style="text-align: justify;">
	Киевский Конгресс рисовальщиков откроется в Ночь музеев 18 мая в 18.00 при участии Альтхамера, членов социального центра ESC (Рим), украинской художественно-политической инициативы Худсовет, Р.Э.П., Прямої дії и Феминистической офензивы.</p>
<p style="text-align: justify;">
	Известные украинские художники и художественные группировки ежедневно проводить мастер-классы для студентов, школьников, детей.</p>
<p style="text-align: justify;">
	Конгресс рисовальщиков впервые состоялся по инициативе художника Павла Альтхамера в рамках 7-й Берлинской биеннале современного искусства 2012 года (под кураторством Артура Жмиевского).</p>
<p style="text-align: justify;">
	Тогда помещение одной из недействующих берлинских церквей (Elisabethkirche) было превращено в площадку для совместного рисования. Успех Конгресса рисовальщиком среди публики биеннале побудил Павла Альтхамера развить этот замысел и провести подобные Конгрессы в Риме, Варшаве и Киеве.</p>
<p style="text-align: justify;">
	Параллельная программа, которая будет проходить в Музее при Конгрессе, будет включать видеопоказы, презентации, обсуждения, мастер-классы с участием украинских и зарубежных художников, кураторов, активистов.</p>
LOCATION:Киев, Украина
END:VEVENT
END:VCALENDAR