BEGIN:VCALENDAR
VERSION:2.0
BEGIN:VEVENT
URL:https://artistiya.com/moia-stranitca/zhivopis/klub-khudozhnikov/viewevent/artem-volokitin-vnutrennee-siianie-zhivopis 
DTSTART:20130918T000000
DTEND:20131006T000000
SUMMARY:Артем Волокитин - "Внутреннее сияние" - живопись
DESCRIPTION:<p>
	<span id="0097f" style="font-size:1.0em;">В киевской Карась Галерее открывается новая персональная выставка одного украинского художника Артема Волокитина - <em>Внутреннее сияние</em>.</span></p>
<p>
	<span id="0097f" style="font-size:1.0em;">На экспозиции будет представлено около 30 новых живописных произведений художника. </span></p>
<p>
	<span id="0097f" style="font-size:1.0em;">В 2009 году Волокитин получил первую Премию PinchukArtCentre, благодаря чему прошел стажировку в мастерской всемирно известного художника Энтони Гормли (Лондон). </span></p>
<p>
	<span id="0097f" style="font-size:1.0em;">В 2011 году его работы были представлены на Венецианской биеннале. По рейтингу украинский версии журнала Forbes (2012 г.) Волокитин входит в десятку самых перспективных молодых художников Украины.</span></p>
LOCATION:Киев 04070 Украина Андреевский спуск 22-а
END:VEVENT
END:VCALENDAR