BEGIN:VCALENDAR
VERSION:2.0
BEGIN:VEVENT
URL:https://artistiya.com/moia-stranitca/fotografiia/fotografiia/viewevent/v-kieve-prokhodit-otbor-rabot-na-mezhdunarodnyi-salon-khudozhestvennoi-fotografii-fiap 
DTSTART:20130910T000000
DTEND:20131008T000000
SUMMARY:В Киеве проходит отбор работ на Международный салон художественной фотографии FIAP
DESCRIPTION:<p>
	<span id="0097f" style="font-size:1.0em;">В Киеве проходит отбор работ на 1-й Международный салон художественной фотографии под патронатом Международной федерации фотоискусств FIAP <em>Мое путешествие</em>.</span></p>
<p>
	<span id="0097f" style="font-size:1.0em;">В салоне принимают участие фотографы из Украины и всего мира. Фотографии для участия принимаются до 8 октября, после чего в Киеве пройдет заседание международного жюри, которое отберет лучшие работы и отметит их медалями и дипломами международных организаций (FIAP, IAAP) и Национального фотосоюза (НСФХУ), победитель получит гран-при фотосалона.</span></p>
<p>
	<span id="0097f" style="font-size:1.0em;">Открытие фотовыставки салона и награждение дипломантов и участников пройдет в Украинском Доме 28 ноября. В экспозиции будет представлено более ста фотографий авторов со всего мира. На следующий день состоится фототур в Чернобыль.</span></p>
<p>
	<span id="0097f" style="font-size:1.0em;">Фотосалон продлится в Украинском доме две недели. В этот период будет проходить фотовестиваль <em>Мое путешествие</em>, на котором известные фотографы проведут свои мастер-классы, семинары, творческие вечера, ворк-шопы.</span></p>
LOCATION:Kiev, Ukraine
END:VEVENT
END:VCALENDAR