BEGIN:VCALENDAR
VERSION:2.0
BEGIN:VEVENT
URL:https://artistiya.com/moia-stranitca/literatura/klub-pisatelei/viewevent/20-i-iubileinyi-forum-izdatelei 
DTSTART:20130910T000000
DTEND:20130915T000000
SUMMARY:20-й юбилейный Форум издателей
DESCRIPTION:<p>
	<span id="0097f" style="font-size:1.0em;">10-15 сентября во Львове пройдет 20-й юбилейный Форум издателей.</span></p>
<p>
	<span id="0097f" style="font-size:1.0em;">В рамках <a href="http://files.korrespondent.net/organizations/forum">Форума</a> издателей пройдет львовский Международный литературный фестиваль, книжная ярмарка (заявки подали более 130 издательств), Всеукраинский конкурс Лучшая книга форума, Библиотечный форум, фестиваль и конкурс Молодая республика поэтов и другое.</span></p>
<p>
	<span id="0097f" style="font-size:1.0em;">Впервые на Международном литературном фестивале появится страна-почетный гость; в этом году ею стала Польша, представители которой будут проводить концерты, презентации, киносмотры кино и тд.</span></p>
<p>
	<span id="0097f" style="font-size:1.0em;">Кроме Польши, на Форуме от имени Германии свою программу представит Goethe-Institut, а гости из США покажут пьесу о путешественнике Джоне Смите. </span></p>
<p>
	<span id="0097f" style="font-size:1.0em;">Форум издателей во Львове будет проходить на различных локациях: высшие учебные заведения, музеи, театры, арт-кафе.</span></p>
LOCATION:Львов, Украина
END:VEVENT
END:VCALENDAR