BEGIN:VCALENDAR
VERSION:2.0
BEGIN:VEVENT
URL:https://artistiya.com/moia-stranitca/zhivopis/klub-khudozhnikov/viewevent/tikhii-protest 
DTSTART:20130920T000000
DTEND:20131020T000000
SUMMARY:Тихий протест
DESCRIPTION:<p style="font-family: Arial, Tahoma, sans-serif; margin: 0px 0px 20px; color: rgb(51, 51, 51); font-size: 13.63636302947998px; line-height: 21.988636016845703px;">
	20 сентября в Национальном художественном музее откроется выставка Тихий протест 70-х. В экспозицию войдут более 120 работ, большинство которых будут выставлены впервые.</p>
<p>
	<span style="color: rgb(51, 51, 51); font-family: Arial, Tahoma, sans-serif; font-size: 13.63636302947998px; line-height: 21.988636016845703px;">По словам куратора выставки Евгения Березницкого, это первая системная попытка исследовать феномен украинского искусства 70-х годов 20-го столетия и открыть зрителю один из наименее изученных периодов в истории украинской культуры.</span></p>
<p style="font-family: Arial, Tahoma, sans-serif; margin: 0px 0px 20px; color: rgb(51, 51, 51); font-size: 13.63636302947998px; line-height: 21.988636016845703px;">
	Семидесятые - знаковое время в украинской культуре, связанное с именами <a href="http://files.korrespondent.net/persons/paradjanov" style="border: none; color: rgb(28, 86, 165); text-decoration: none; line-height: 15px;">Сергея Параджанова</a> и <a href="http://files.korrespondent.net/persons/stus_vasyl" style="border: none; color: rgb(28, 86, 165); text-decoration: none; line-height: 15px;">Василия Стуса</a>, время всесоюзных строек -<a href="http://files.korrespondent.net/organizations/chaes" style="border: none; color: rgb(28, 86, 165); text-decoration: none; line-height: 15px;">ЧАЭС</a>, БАМа и индустриализации Сибири. Это период внутренней эмиграции советских граждан, время фарцовщиков, причесок "под битлов", потертых джинсов и бобинных магнитофонов с записями Владимира Высоцкого (чьи полуофициальные концерты собирали тысячи зрителей). "Тихий протест&hellip;" - зеркало эпохи, возможность вспомнить, "как это было", и понять, чем жило поколение  70-х, говорят организаторы выставки. </p>
<p style="font-family: Arial, Tahoma, sans-serif; margin: 0px 0px 20px; color: rgb(51, 51, 51); font-size: 13.63636302947998px; line-height: 21.988636016845703px;">
	"Богатые на события во внутренней и внешней политике 1960-е, надежда на общественно-политические изменения в СССР и последовавшее жестокое разочарование породили новый тип мировоззрения, присущий семидесятникам, - рассказывает куратор  Березницкий. - Интеллигенция больше не пыталась активно выражать протест против идеологии уравниловки и серости. Художники обратили свои взгляды на собственные переживания и размышления, сфокусировались на исследовании индивидуальности, выделяющейся из серой массы. Это поколение создало новую эстетику: эксперименты с формой и техникой рисунка, а также использование цвета для передачи ощущения предмета, стали новым подходом к отображению окружающего мира, а не способом его фотографического изображения. Произошел своеобразный "тихий переворот", который постепенно уничтожил соцреализм изнутри".</p>
<p style="font-family: Arial, Tahoma, sans-serif; margin: 0px 0px 20px; color: rgb(51, 51, 51); font-size: 13.63636302947998px; line-height: 21.988636016845703px;">
	 Избегая острых общественно-политических тем, представители новой творческой элиты отдавали преимущество лирическим пейзажам и натюрмортам со сложным колоритом, абстрактному искусству или "суровому" стилю. В это же время в культуре оформилась тенденция обращения к корням - очень большое значение приобрели цитаты из народного фольклора и использование мифологических образов.</p>
<p style="font-family: Arial, Tahoma, sans-serif; margin: 0px 0px 20px; color: rgb(51, 51, 51); font-size: 13.63636302947998px; line-height: 21.988636016845703px;">
	Художники-семидесятники принимали участие в официальных выставках, но многие из них уходили в андеграунд, создавали собственную среду и находили своего зрителя на "квартирных выставках".</p>
<p style="font-family: Arial, Tahoma, sans-serif; margin: 0px 0px 20px; color: rgb(51, 51, 51); font-size: 13.63636302947998px; line-height: 21.988636016845703px;">
	Тихий протест 70-х представит лучшие живописные и графические работы (пейзажи, портреты, сюжетные композиции) более двадцати авторов, среди которых один из последовательных адептов "сурового" стиля Владислав Мамсиков, мастер лирической картины Зоя Лерман, одесский нонконформист Олег Соколов, основатель "панического реализма" Петр Беленок, мэтр натюрморта Валентин Реунов и другие. Выставка продлится до 20 октября. </p>
LOCATION:Киев, Украина
END:VEVENT
END:VCALENDAR