BEGIN:VCALENDAR
VERSION:2.0
BEGIN:VEVENT
URL:https://artistiya.com/moia-stranitca/viewevent/assorti-final 
DTSTART:20130531T000000
DTEND:20130531T110000
SUMMARY:Ассорти, финал
DESCRIPTION:
LOCATION:Абая Ленина
END:VEVENT
END:VCALENDAR